BEGIN:VCALENDAR
VERSION:2.0
PRODID:-//wp-events-plugin.com//7.2.3.1//EN
TZID:America/Detroit
X-WR-TIMEZONE:America/Detroit
BEGIN:VEVENT
UID:20923@shaareyzedek.org
DTSTART;TZID=America/New_York:20260121T130000
DTEND;TZID=America/New_York:20260121T143000
DTSTAMP:20260105T170105Z
URL:https://www.shaareyzedek.org/events/free-gray-matters-workshop-2/
SUMMARY:FREE Gray Matters Workshop!
DESCRIPTION:Please join Jewish Family Services for a FREE Gray Matters Work
 shop! \n\n“Reminiscence Therapy: How Recalling Past Experiences Boosts C
 ognitive and Emotional Well-being PART 2” with Author and Detroit Tour G
 uide\, Rusty Rosman\n\nWEDNESDAY\, January 21\, 2026 – 1:00-2:30p \n\nRe
 gister by emailing: MindU@JFSdetroit.org OR call 248-788-MIND (6463)\n\n
ATTACH;FMTTYPE=image/jpeg:https://www.shaareyzedek.org/wp-content/uploads/
 2023/01/JFS.png
CATEGORIES:Adult Education,Community Events,Seniors Programming
LOCATION:Jewish Family Services\, 6555 West Maple Road\, West Bloomfield\, 
 MI\, 48322\, United States
GEO:42.541227;-83.404382
X-APPLE-STRUCTURED-LOCATION;VALUE=URI;X-ADDRESS=6555 West Maple Road\, West
  Bloomfield\, MI\, 48322\, United States;X-APPLE-RADIUS=100;X-TITLE=Jewish
  Family Services:geo:42.541227,-83.404382
END:VEVENT
BEGIN:VTIMEZONE
TZID:America/New_York
X-LIC-LOCATION:America/New_York
BEGIN:STANDARD
DTSTART:20251102T010000
TZOFFSETFROM:-0400
TZOFFSETTO:-0500
TZNAME:EST
END:STANDARD
END:VTIMEZONE
END:VCALENDAR