BEGIN:VCALENDAR
VERSION:2.0
PRODID:-//wp-events-plugin.com//7.2.3.1//EN
TZID:America/Detroit
X-WR-TIMEZONE:America/Detroit
BEGIN:VEVENT
UID:20950@shaareyzedek.org
DTSTART;TZID=America/Detroit:20260214T185600
DTEND;TZID=America/Detroit:20260214T191600
DTSTAMP:20260212T200341Z
URL:https://www.shaareyzedek.org/events/havdalah-a-soulful-start-to-the-we
 ek-with-ritual-director-saul-a-rube-2/
SUMMARY:Havdalah: A Soulful Start to the Week with Ritual Director Saul A. 
 Rube
DESCRIPTION:Help Ritual Director Saul A. Rube to make a minyan for those sa
 ying Kaddish as we say goodbye to Shabbat\, and welcome in a sweet new wee
 k. Gather your spices\, wine and braided candle and CLICK HERE to join on 
 Zoom. Bring your favorite beverage and click HERE to join us online. Stay
  online for a really good soulful story to start off the week.
ATTACH;FMTTYPE=image/jpeg:https://www.shaareyzedek.org/wp-content/uploads/
 2020/05/Havdalah.jpg
CATEGORIES:Shabbat &amp; Holidays,Virtual Event,zFeatured Events
END:VEVENT
BEGIN:VTIMEZONE
TZID:America/Detroit
X-LIC-LOCATION:America/Detroit
BEGIN:STANDARD
DTSTART:20251102T010000
TZOFFSETFROM:-0400
TZOFFSETTO:-0500
TZNAME:EST
END:STANDARD
END:VTIMEZONE
END:VCALENDAR