BEGIN:VCALENDAR
VERSION:2.0
PRODID:-//wp-events-plugin.com//7.2.3.1//EN
TZID:America/Detroit
X-WR-TIMEZONE:America/Detroit
BEGIN:VEVENT
UID:20848@shaareyzedek.org
DTSTART;TZID=America/New_York:20260130T173000
DTEND;TZID=America/New_York:20260130T181500
DTSTAMP:20260130T123907Z
URL:https://www.shaareyzedek.org/events/kabbalat-shabbat-2-2026-01-30/
SUMMARY:Kabbalat Shabbat
DESCRIPTION:Club Zed and the Men's Club welcome you to join Ritual Director
  Saul A. Rube and your community in the Bernstein Chapel for a traditional
  Kabbalat service to welcome Shabbat and to pray for our brothers and sist
 ers in Israel. There will be a small Oneg Shabbat in the Weisberg Lobby. Y
 ou may also join on Zoom \n\nWe utilize Siddur Sim Shalom. It is recomme
 nded that you purchase a weekday morning\, weekday afternoon\, weekday eve
 ning and Shabbat.\n\nFor regular daily minyanim\, please enter through the
  Lester Entrance Plaza. Either enter the code on the keypad or press the b
 utton on the Ring camera.
ATTACH;FMTTYPE=image/jpeg:https://www.shaareyzedek.org/wp-content/uploads/
 2023/05/Kabbalat-Shabbat-logo-_2_.jpg
CATEGORIES:Daily Services,Shabbat &amp; Holidays,Shabbat Events,zFeatured
 Events
LOCATION:Bernstein Chapel\, 27375 Bell Road\, Southfield\, Michigan\, 48034
 \, United States
GEO:42.489329;-83.273495
X-APPLE-STRUCTURED-LOCATION;VALUE=URI;X-ADDRESS=27375 Bell Road\, Southfiel
 d\, Michigan\, 48034\, United States;X-APPLE-RADIUS=100;X-TITLE=Bernstein 
 Chapel:geo:42.489329,-83.273495
END:VEVENT
BEGIN:VTIMEZONE
TZID:America/New_York
X-LIC-LOCATION:America/New_York
BEGIN:STANDARD
DTSTART:20251102T010000
TZOFFSETFROM:-0400
TZOFFSETTO:-0500
TZNAME:EST
END:STANDARD
END:VTIMEZONE
END:VCALENDAR