BEGIN:VCALENDAR
VERSION:2.0
PRODID:-//wp-events-plugin.com//7.2.3.1//EN
TZID:America/Detroit
X-WR-TIMEZONE:America/Detroit
BEGIN:VEVENT
UID:19904@shaareyzedek.org
DTSTART;TZID=America/New_York:20260120T073000
DTEND;TZID=America/New_York:20260120T081500
DTSTAMP:20260120T212447Z
URL:https://www.shaareyzedek.org/events/morning-minyan-with-breakfast-3-20
 26-01-01-2026-01-02-2026-01-05-2026-01-06-2026-01-07-2026-01-08-2026-01-09
 -2026-01-12-2026-01-13-2026-01-14-2026-01-15-2026-01-16-2026-01-19-2026-01
 -20/
SUMMARY:Morning Minyan with Breakfast
DESCRIPTION:Today's minyan and enhanced breakfast are sponsored by Allan Co
 hen marking the first yahrzeit of his mother Elaine Cohen. \nThe CSZ Lay 
 leaders and digital Gabbai welcome you to an engaging morning minyan in th
 e Lee and Gerson Bernstein Chapel.  Followed by a light breakfast and cha
 t.  You may also join on Zoom. \n\nFor regular daily minyanim\, please 
 enter through the Lester Entrance Plaza. Either enter the code on the keyp
 ad or press the button on the Ring camera.\n\nOnline prayer books are avai
 lable for you to follow along with our minyan\, thanks to the Rabbinical A
 ssembly! We utilize Siddur Sim Shalom. It is recommended that you downloa
 d weekday morning\, weekday afternoon\, weekday evening and Shabbat. Click
  HERE.
ATTACH;FMTTYPE=image/jpeg:https://www.shaareyzedek.org/wp-content/uploads/
 2019/09/CSZ-Chapel.jpg
CATEGORIES:Daily Services
LOCATION:Bernstein Chapel\, 27375 Bell Road\, Southfield\, Michigan\, 48034
 \, United States
GEO:42.489329;-83.273495
X-APPLE-STRUCTURED-LOCATION;VALUE=URI;X-ADDRESS=27375 Bell Road\, Southfiel
 d\, Michigan\, 48034\, United States;X-APPLE-RADIUS=100;X-TITLE=Bernstein 
 Chapel:geo:42.489329,-83.273495
END:VEVENT
BEGIN:VTIMEZONE
TZID:America/New_York
X-LIC-LOCATION:America/New_York
BEGIN:STANDARD
DTSTART:20251102T010000
TZOFFSETFROM:-0400
TZOFFSETTO:-0500
TZNAME:EST
END:STANDARD
END:VTIMEZONE
END:VCALENDAR