BEGIN:VCALENDAR
VERSION:2.0
PRODID:-//wp-events-plugin.com//7.2.3.1//EN
TZID:America/Detroit
X-WR-TIMEZONE:America/Detroit
BEGIN:VEVENT
UID:21090@shaareyzedek.org
DTSTART;TZID=America/Detroit:20260724T180000
DTEND;TZID=America/Detroit:20260724T200000
DTSTAMP:20260420T190445Z
URL:https://www.shaareyzedek.org/events/onetable-shabbat-2026-04-17-2026-0
 5-22-2026-06-19-2026-07-24/
SUMMARY:OneTable Shabbat
DESCRIPTION:CSZ is happy to work in partnership with the National One Tab
 le Together Community around offering meaningful Shabbat dinners at membe
 rs’ homes that build relationships\, make connections and spark Jewish j
 oy! \n\nCome as a guest or volunteer to host a dinner. CSZ and One Table
  will provide great Shabbat resources and guides as well as some delicious
  surprise additions to your Shabbat dinner table. \n\n 
ATTACH;FMTTYPE=image/jpeg:https://www.shaareyzedek.org/wp-content/uploads/
 2026/04/OneTable-300x300-1.jpg
CATEGORIES:Adult &amp; Social,Community Events,Seniors Programming,Shabbat
 Events,zFeatured Events
END:VEVENT
BEGIN:VTIMEZONE
TZID:America/Detroit
X-LIC-LOCATION:America/Detroit
BEGIN:DAYLIGHT
DTSTART:20260308T030000
TZOFFSETFROM:-0500
TZOFFSETTO:-0400
TZNAME:EDT
END:DAYLIGHT
END:VTIMEZONE
END:VCALENDAR