BEGIN:VCALENDAR
VERSION:2.0
PRODID:-//wp-events-plugin.com//7.2.3.1//EN
TZID:America/Detroit
X-WR-TIMEZONE:America/Detroit
BEGIN:VEVENT
UID:18216@shaareyzedek.org
DTSTART;TZID=America/New_York:20260124T090000
DTEND;TZID=America/New_York:20260124T120000
DTSTAMP:20260122T215425Z
URL:https://www.shaareyzedek.org/events/religious-school-2026-01-25/
SUMMARY:Religious School Shabbat
DESCRIPTION:We are looking forward to welcoming students from the CSZ Villa
 ge Religious School once again this coming Shabbat. Our students have been
  working hard to lead Modeh Ani\, Shema\, and Ein Keloheinu from the bi
 mah\, and are excited to join the larger congregation.\n\nThis special mor
 ning offers a wonderful opportunity for our youngest congregants to experi
 ence the beauty of Shabbat morning services and feel part of the larger CS
 Z community.
ATTACH;FMTTYPE=image/jpeg:https://www.shaareyzedek.org/wp-content/uploads/
 2020/04/starofdavidpeople.jpg
CATEGORIES:Religious School,Shaarey Zedek,Youth &amp; Families,zFeatured
 Events
LOCATION:Congregation Shaarey Zedek\, 27375 Bell rd.\, Southfield\, MI\, 48
 034\, United States
GEO:42.489329;-83.273495
X-APPLE-STRUCTURED-LOCATION;VALUE=URI;X-ADDRESS=27375 Bell rd.\, Southfield
 \, MI\, 48034\, United States;X-APPLE-RADIUS=100;X-TITLE=Congregation Shaa
 rey Zedek:geo:42.489329,-83.273495
END:VEVENT
BEGIN:VTIMEZONE
TZID:America/New_York
X-LIC-LOCATION:America/New_York
BEGIN:STANDARD
DTSTART:20251102T010000
TZOFFSETFROM:-0400
TZOFFSETTO:-0500
TZNAME:EST
END:STANDARD
END:VTIMEZONE
END:VCALENDAR