BEGIN:VCALENDAR
VERSION:2.0
PRODID:-//wp-events-plugin.com//7.2.3.1//EN
TZID:America/Detroit
X-WR-TIMEZONE:America/Detroit
BEGIN:VEVENT
UID:17673@shaareyzedek.org
DTSTART;TZID=America/New_York;VALUE=DATE:20250825
DTEND;TZID=America/New_York;VALUE=DATE:20250826
DTSTAMP:20250818T173952Z
URL:https://www.shaareyzedek.org/events/rosh-chodesh-elul-2/
SUMMARY:Rosh Chodesh Elul
DESCRIPTION:Start of month of Elul on the Hebrew calendar. Elul (אֱלוּ
 ל) is the 12th month of the civil Hebrew year (13th on leap years) andthe
  6th month of the biblical Hebrew year. It has 29 days and correspondsto A
 ugust or September on the Gregorian calendar. רֹאשׁ חוֹדֶשׁ\, 
 transliterated Rosh Chodesh or Rosh Hodesh\, is a minor holiday thatoccurs
  at the beginning of every month in the Hebrew calendar. It is marked by t
 he birth of a new moon\n\nTorah: Numbers 28:1-15\n\nhttps://hebcal.com/h/r
 osh-chodesh-elul-2025?uc=ical-southfield
CATEGORIES:Shabbat &amp; Holidays
END:VEVENT
BEGIN:VTIMEZONE
TZID:America/New_York
X-LIC-LOCATION:America/New_York
BEGIN:DAYLIGHT
DTSTART:20250309T030000
TZOFFSETFROM:-0500
TZOFFSETTO:-0400
TZNAME:EDT
END:DAYLIGHT
END:VTIMEZONE
END:VCALENDAR