BEGIN:VCALENDAR
VERSION:2.0
PRODID:-//wp-events-plugin.com//7.2.3.1//EN
TZID:America/Detroit
X-WR-TIMEZONE:America/Detroit
BEGIN:VEVENT
UID:21084@shaareyzedek.org
DTSTART;TZID=America/Detroit:20260419T143000
DTEND;TZID=America/Detroit:20260419T143000
DTSTAMP:20260419T123620Z
URL:https://www.shaareyzedek.org/events/the-zekelman-holocaust-centers-yom
 -hashoah-cemmemoration/
SUMMARY:The Zekelman Holocaust Center's Yom HaShoah Cemmemoration
DESCRIPTION:We are honored to welcome Rabbi Aaron Starr and Hazzan David Pr
 opis of Congregation Shaarey Zedek to lead this year's Yom HaShoah Commemo
 ration this Sunday\, April 19\, at 2:30 PM EDT.\n\nHolocaust survivors fro
 m our community will be joined by family and friends to light memorial can
 dles. With poems\, songs\, and prayers\, we will remember and honor the si
 x million Jewish victims of the Holocaust.\n\nHere are a few things to kno
 w before attending:\n• This program is free to attend and will be offere
 d in-person at The HC and live-streamed online on The HC's YouTube channel
 .\n• Seating is limited and on a first-come\, first-served basis. We enc
 ourage you to arrive early to secure your spot in our William Davidson Aud
 itorium. There will also be a live stream of the program in our classrooms
 .\n• As always\, the safety and well-being of our guests is paramount. I
 n addition to our security screening upon arrival\, there will be an incre
 ased visible security presence throughout the afternoon\, including unifor
 med officers and our security team.\n• Complimentary valet parking will 
 be available. If dropping off attendees\, please use the circular drive at
  our North Entrance.\nFollowing the event\, all who wish to light a memori
 al candle are invited to do so at The HC's Memorial Wall and Eternal Flame
 .
ATTACH;FMTTYPE=image/jpeg:https://www.shaareyzedek.org/wp-content/uploads/
 2026/04/HMC-Logo.png
CATEGORIES:Community Events,zFeatured Events
LOCATION:The Zekelman Holocaust Center\, 28123 Orchard Lake Road \, Farming
 ton Hills\, MI\, 48344\, United States
GEO:42.501881;-83.35933
X-APPLE-STRUCTURED-LOCATION;VALUE=URI;X-ADDRESS=28123 Orchard Lake Road \, 
 Farmington Hills\, MI\, 48344\, United States;X-APPLE-RADIUS=100;X-TITLE=T
 he Zekelman Holocaust Center:geo:42.501881,-83.35933
END:VEVENT
BEGIN:VTIMEZONE
TZID:America/Detroit
X-LIC-LOCATION:America/Detroit
BEGIN:DAYLIGHT
DTSTART:20260308T030000
TZOFFSETFROM:-0500
TZOFFSETTO:-0400
TZNAME:EDT
END:DAYLIGHT
END:VTIMEZONE
END:VCALENDAR