BEGIN:VCALENDAR
VERSION:2.0
PRODID:-//wp-events-plugin.com//7.2.3.1//EN
TZID:America/Detroit
X-WR-TIMEZONE:America/Detroit
BEGIN:VEVENT
UID:18582@shaareyzedek.org
DTSTART;TZID=America/New_York:20260118T100000
DTEND;TZID=America/New_York:20260118T110000
DTSTAMP:20260105T171041Z
URL:https://www.shaareyzedek.org/events/yeshivat-horim-parents-yeshiva-578
 6-2/
SUMMARY:Yeshivat Horim/ Parents Yeshiva 5786
DESCRIPTION:It isn't easy raising a Jewish child in the age of TikTok and S
 napchat. Luckily\, you don't have to do it alone!\n\nJoin Rabbis Dahlen an
 d Starr for a special series focusing on Jewish parenting in a world that 
 has never felt more overwhelming.\n\nBring your friends\, and start your S
 unday with some Torah you can incorporate into the holy task of being a pa
 rent or guardian!
ATTACH;FMTTYPE=image/jpeg:https://www.shaareyzedek.org/wp-content/uploads/
 2023/10/Parent-Yashiva.jpg
CATEGORIES:Adult Education,Youth &amp; Families,zFeatured Events
LOCATION:Congregation Shaarey Zedek\, 27375 Bell rd.\, Southfield\, MI\, 48
 034\, United States
GEO:42.489329;-83.273495
X-APPLE-STRUCTURED-LOCATION;VALUE=URI;X-ADDRESS=27375 Bell rd.\, Southfield
 \, MI\, 48034\, United States;X-APPLE-RADIUS=100;X-TITLE=Congregation Shaa
 rey Zedek:geo:42.489329,-83.273495
END:VEVENT
BEGIN:VTIMEZONE
TZID:America/New_York
X-LIC-LOCATION:America/New_York
BEGIN:STANDARD
DTSTART:20251102T010000
TZOFFSETFROM:-0400
TZOFFSETTO:-0500
TZNAME:EST
END:STANDARD
END:VTIMEZONE
END:VCALENDAR