BEGIN:VCALENDAR
VERSION:2.0
PRODID:-//wp-events-plugin.com//7.2.3.1//EN
TZID:America/Detroit
X-WR-TIMEZONE:America/Detroit
BEGIN:VEVENT
UID:18143@shaareyzedek.org
DTSTART;TZID=America/New_York;VALUE=DATE:20260421
DTEND;TZID=America/New_York;VALUE=DATE:20260422
DTSTAMP:20260421T170216Z
URL:https://www.shaareyzedek.org/events/yom-hazikaron/
SUMMARY:Yom HaZikaron
DESCRIPTION:Israeli Memorial Day. Remembers those who died in the War of In
 dependence and other wars in Israel. The full name of the holiday is YomHa
 Zikaron LeHalalei Ma’arakhot Yisrael ul’Nifge’ei Pe’ulot HaEivah (
 Hebrew: יוֹם הזִּכָּרוֹן לְחַלְלֵי מַעֲרָכ
 וֹת יִשְׂרָאֵל וּלְנִפְגְעֵי פְּעֻלּוֹ
 ת הָאֵיבָה)\, Memorial Day for the Fallen Soldiers of the Wars of
  Israel and Victims of Actions of Terrorism. Although Yom Hazikaron is nor
 mally observed on the 4th of Iyyar\, it may be moved earlier or postponed 
 if observance of the holiday (or Yom HaAtzma’ut\, which always follows i
 t) would conflict with Shabbat\n\nhttps://hebcal.com/h/yom-hazikaron-2026?
 uc=ical-southfield
CATEGORIES:Shabbat &amp; Holidays
END:VEVENT
BEGIN:VTIMEZONE
TZID:America/New_York
X-LIC-LOCATION:America/New_York
BEGIN:DAYLIGHT
DTSTART:20260308T030000
TZOFFSETFROM:-0500
TZOFFSETTO:-0400
TZNAME:EDT
END:DAYLIGHT
END:VTIMEZONE
END:VCALENDAR